BEGIN:VCALENDAR
VERSION:2.0
CALSCALE:GREGORIAN
PRODID:adamgibbons/ics
METHOD:PUBLISH
X-PUBLISHED-TTL:PT1H
BEGIN:VEVENT
UID:7@cal.kellancoaching.com
SUMMARY:Dearborn Coding Club
DTSTAMP:20260420T083805Z
DTSTART:20260425T150000Z
DTEND:20260425T180000Z
URL:https://cal.kellancoaching.com/event/dearborn-coding-club-2
LOCATION:Haraz Coffee House - 13810 Michigan Ave\, Dearborn\, MI 48126
STATUS:CONFIRMED
CATEGORIES:
END:VEVENT
END:VCALENDAR
